BEGIN:VCALENDAR
VERSION:2.0
PRODID:-//Beaver Watershed Alliance - ECPv6.15.20//NONSGML v1.0//EN
CALSCALE:GREGORIAN
METHOD:PUBLISH
X-WR-CALNAME:Beaver Watershed Alliance
X-ORIGINAL-URL:https://www.beaverwatershedalliance.org
X-WR-CALDESC:Events for Beaver Watershed Alliance
REFRESH-INTERVAL;VALUE=DURATION:PT1H
X-Robots-Tag:noindex
X-PUBLISHED-TTL:PT1H
BEGIN:VTIMEZONE
TZID:America/Chicago
BEGIN:DAYLIGHT
TZOFFSETFROM:-0600
TZOFFSETTO:-0500
TZNAME:CDT
DTSTART:20210314T080000
END:DAYLIGHT
BEGIN:STANDARD
TZOFFSETFROM:-0500
TZOFFSETTO:-0600
TZNAME:CST
DTSTART:20211107T070000
END:STANDARD
BEGIN:DAYLIGHT
TZOFFSETFROM:-0600
TZOFFSETTO:-0500
TZNAME:CDT
DTSTART:20220313T080000
END:DAYLIGHT
BEGIN:STANDARD
TZOFFSETFROM:-0500
TZOFFSETTO:-0600
TZNAME:CST
DTSTART:20221106T070000
END:STANDARD
BEGIN:DAYLIGHT
TZOFFSETFROM:-0600
TZOFFSETTO:-0500
TZNAME:CDT
DTSTART:20230312T080000
END:DAYLIGHT
BEGIN:STANDARD
TZOFFSETFROM:-0500
TZOFFSETTO:-0600
TZNAME:CST
DTSTART:20231105T070000
END:STANDARD
END:VTIMEZONE
BEGIN:VEVENT
DTSTART;TZID=America/Chicago:20220519T120000
DTEND;TZID=America/Chicago:20220519T130000
DTSTAMP:20260424T180403
CREATED:20220428T201921Z
LAST-MODIFIED:20220428T201921Z
UID:10000060-1652961600-1652965200@www.beaverwatershedalliance.org
SUMMARY:Speaker Series: Unpaved Roads- Efforts in Arkansas
DESCRIPTION:Join the Alliance for our Quarterly Speaker Series! Kevin McGaughey with Arkansas Natural Resources Division (ANRD)\, and Clay Word with The Nature Conservancy (TNC) will be presenting on “Unpaved Roads – Efforts in Arkansas” \n85% of Arkansas roads are unpaved and can contribute significant amounts of sediment- the #1 pollutant in the Beaver Lake Watershed\, into our waterways. Learn from an Arkansas Natural Resources Division specialist about how the Arkansas Unpaved Roads Grant Program (AURP) functions\, helps counties in practical ways economically and can help improve water quality. \nA specialist from TNC will also present on the importance of stream barrier remediation in the Interior Highlands. TNC will discuss the benefits to water quality\, conservation\, and infrastructure that barrier remediation can provide using three different projects of varying size and scope as examples. Project management considerations and lessons learned from each project will also be presented. \nRegistration is required. This speaker series will be free and held on Zoom. A live Q & A will follow the presentation. The presentation will be recorded and uploaded on Alliance YouTube. \nClick here to register. For any questions\, please email info@beaverwatershedalliance.org  \nClick here to download the flyer. \nThis Speaker Series is sponsored by Beaver Water District. \n 
URL:https://www.beaverwatershedalliance.org/event/unpaved-roads/
LOCATION:ZOOM
CATEGORIES:Speaker Series,Virtual
ATTACH;FMTTYPE=image/png:https://www.beaverwatershedalliance.org/wp-content/uploads/2022/04/2022-05-19-SpeakerSeries_UnpavedRoads-crop.png
ORGANIZER;CN="Beaver Watershed Alliance":MAILTO:info@beaverwatershedalliance.org
END:VEVENT
END:VCALENDAR