BEGIN:VCALENDAR
VERSION:2.0
PRODID:-//Beaver Watershed Alliance - ECPv6.15.20//NONSGML v1.0//EN
CALSCALE:GREGORIAN
METHOD:PUBLISH
X-WR-CALNAME:Beaver Watershed Alliance
X-ORIGINAL-URL:https://www.beaverwatershedalliance.org
X-WR-CALDESC:Events for Beaver Watershed Alliance
REFRESH-INTERVAL;VALUE=DURATION:PT1H
X-Robots-Tag:noindex
X-PUBLISHED-TTL:PT1H
BEGIN:VTIMEZONE
TZID:America/Chicago
BEGIN:DAYLIGHT
TZOFFSETFROM:-0600
TZOFFSETTO:-0500
TZNAME:CDT
DTSTART:20210314T080000
END:DAYLIGHT
BEGIN:STANDARD
TZOFFSETFROM:-0500
TZOFFSETTO:-0600
TZNAME:CST
DTSTART:20211107T070000
END:STANDARD
BEGIN:DAYLIGHT
TZOFFSETFROM:-0600
TZOFFSETTO:-0500
TZNAME:CDT
DTSTART:20220313T080000
END:DAYLIGHT
BEGIN:STANDARD
TZOFFSETFROM:-0500
TZOFFSETTO:-0600
TZNAME:CST
DTSTART:20221106T070000
END:STANDARD
BEGIN:DAYLIGHT
TZOFFSETFROM:-0600
TZOFFSETTO:-0500
TZNAME:CDT
DTSTART:20230312T080000
END:DAYLIGHT
BEGIN:STANDARD
TZOFFSETFROM:-0500
TZOFFSETTO:-0600
TZNAME:CST
DTSTART:20231105T070000
END:STANDARD
END:VTIMEZONE
BEGIN:VEVENT
DTSTART;TZID=America/Chicago:20220423T090000
DTEND;TZID=America/Chicago:20220423T120000
DTSTAMP:20260422T140520
CREATED:20220323T200808Z
LAST-MODIFIED:20220329T145758Z
UID:10000054-1650704400-1650715200@www.beaverwatershedalliance.org
SUMMARY:Earth Day Town Branch Cleanup & Celebration
DESCRIPTION:Join us at the Marion Orton Recycling Center for the Mayor’s Earth Day Proclamation\, followed by a family-friendly city-wide cleanup of Fayetteville parks\, lakes\, streams\, trails\, and streets! We’ll kick things off with snacks and coffee\, then volunteers will be given supplies and a cleanup destination; t-shirts and Recycle Something gear will be given out at the end of the event.  This cleanup is rain or shine but may be delayed in the case of a downpour or thunder and lightning. Parking for the kickoff event is available across North street at St. James Missionary Baptist Church\, but in the spirit of Earth Day we encourage you to bike or carpool if possible. \nAs part of the Earth Day Celebration\, the Beaver Watershed Alliance will be hosting a cleanup at Town Branch Creek. Contact us at info@beaverwatershedalliance.org or text/call 479-750-8007 to RSVP!
URL:https://www.beaverwatershedalliance.org/event/earth-day-town-branch-cleanup-celebration/
LOCATION:Marion Orton Recycling Center\, 735 W. North Street\, Fayetteville\, Arkansas
ATTACH;FMTTYPE=image/jpeg:https://www.beaverwatershedalliance.org/wp-content/uploads/2022/03/2022-01-22-Town-Branch-5-e1648073042472.jpg
ORGANIZER;CN="Beaver Watershed Alliance":MAILTO:info@beaverwatershedalliance.org
END:VEVENT
BEGIN:VEVENT
DTSTART;TZID=America/Chicago:20220423T090000
DTEND;TZID=America/Chicago:20220423T140000
DTSTAMP:20260422T140520
CREATED:20220324T211218Z
LAST-MODIFIED:20220404T163844Z
UID:10000059-1650704400-1650722400@www.beaverwatershedalliance.org
SUMMARY:Profitable Production on Pastures Workshop
DESCRIPTION:Profitable Production on Pastures: Grazing for Soil & Water \nDetails: Join the Alliance for an Agriculture Workshop! Participants will learn about topics including: \n\nProgram funding for Soil and Water Health Practices\nFeral swine damage management\nReducing winter feed costs\nUtilizing riparian areas for grazing\nGrazing management practices to increase grazing days\n\nThis will be a family-friendly event and will feature a pasture walk on a nearby Champion Farmer property. Please RSVP to receive a free lunch provided by the Alliance. \nParticipants will hear from experts including: \n\nDr. Dirk Phillip\, University of AR – Department of Animal Science\nLinda Coffey\, Livestock Specialist\, National Center for Appropriate Technologies\nJon House\, Wildlife Biologist USDA/ APHIS/ Wildlife Services\nJerry Genz\, Beaver Watershed Alliance\nDoug Myers\, Beaver Lake Champion Farmer\n\nWhat is provided: Free lunch will be provided for workshop attendees. This event is FREE\, but RSVP is required. \nFor more info and to RSVP\, contact: info@beaverwatershedalliance.org or 479-750-8007 (text or call). \nDownload Flyer \n 
URL:https://www.beaverwatershedalliance.org/event/profitable-production-workshop/
LOCATION:Clifty Community Center/ Volunteer Fire Department\, 182 Madison 8248\, Huntsville\, Arkansas\, 72740
CATEGORIES:Workshops
ATTACH;FMTTYPE=image/jpeg:https://www.beaverwatershedalliance.org/wp-content/uploads/2022/03/calf-scaled-e1649089864760.jpg
ORGANIZER;CN="Beaver Watershed Alliance":MAILTO:info@beaverwatershedalliance.org
END:VEVENT
END:VCALENDAR