BEGIN:VCALENDAR
VERSION:2.0
PRODID:-//Beaver Watershed Alliance - ECPv6.15.20//NONSGML v1.0//EN
CALSCALE:GREGORIAN
METHOD:PUBLISH
X-ORIGINAL-URL:https://www.beaverwatershedalliance.org
X-WR-CALDESC:Events for Beaver Watershed Alliance
REFRESH-INTERVAL;VALUE=DURATION:PT1H
X-Robots-Tag:noindex
X-PUBLISHED-TTL:PT1H
BEGIN:VTIMEZONE
TZID:America/Chicago
BEGIN:DAYLIGHT
TZOFFSETFROM:-0600
TZOFFSETTO:-0500
TZNAME:CDT
DTSTART:20210314T080000
END:DAYLIGHT
BEGIN:STANDARD
TZOFFSETFROM:-0500
TZOFFSETTO:-0600
TZNAME:CST
DTSTART:20211107T070000
END:STANDARD
BEGIN:DAYLIGHT
TZOFFSETFROM:-0600
TZOFFSETTO:-0500
TZNAME:CDT
DTSTART:20220313T080000
END:DAYLIGHT
BEGIN:STANDARD
TZOFFSETFROM:-0500
TZOFFSETTO:-0600
TZNAME:CST
DTSTART:20221106T070000
END:STANDARD
BEGIN:DAYLIGHT
TZOFFSETFROM:-0600
TZOFFSETTO:-0500
TZNAME:CDT
DTSTART:20230312T080000
END:DAYLIGHT
BEGIN:STANDARD
TZOFFSETFROM:-0500
TZOFFSETTO:-0600
TZNAME:CST
DTSTART:20231105T070000
END:STANDARD
END:VTIMEZONE
BEGIN:VEVENT
DTSTART;VALUE=DATE:20220713
DTEND;VALUE=DATE:20220715
DTSTAMP:20260422T045101
CREATED:20220323T215010Z
LAST-MODIFIED:20230524T151330Z
UID:10000058-1657670400-1657843199@www.beaverwatershedalliance.org
SUMMARY:Arkansas Water Resources & Watersheds Conference
DESCRIPTION:Registration Open!\nThe Arkansas Water Resource Center (AWRC)\, Arkansas Forests and Drinking Water Collaborative (AFDWC)\, the Arkansas Department of Agriculture – Forest Division\, and the Beaver Watershed Alliance (BWA)\, are collaborating on a watershed resource conference to be held July 13-14\, 2022.The conference will be held in Fayetteville\, Arkansas at the Waldrip Hall in the state-of-the-art Don Tyson Center for Agricultural Sciences\, an iconic research and education facility. This collaborative effort is bringing top-notch speakers and presentations on HABs\, Recreation\, Source Water Protection\, and Landowner Engagement including: \n\n– Presentations on Latest Funded Research Projects: Harmful Algal Blooms\n– Discussion Panel with Water Utilities: Monitoring and Managing for Source Water Protection in Arkansas\n– Conservation that Pays: Incentivized Conservation\n– Source Water Protection Projects in Arkansas: Arkansas CommuniTree Project & Greers Ferry Lake\n– Beaver Lake Watershed – Source Water Protection and Developing Watershed Metrics\n– Prescribed Fire and Water Quality\n– Low Impact Development\n– Agricultural Initiatives\n– Small-scale and Large-scale Stream Restoration /Low Water Crossings/Dam Removals\n– On-site Tours of Local Conservation Projects\n\nNetwork and engage with water resource professionals on how to sustain\, improve\, and protect our state’s most precious resources – forests and water. \nRegistration
URL:https://www.beaverwatershedalliance.org/event/arkansas-water-resources-watersheds-conference/
LOCATION:Don Tyson Center for Agricultural Sciences\, 1371 W Altheimer Drive\, Fayetteville\, Arkansas\, 72704
CATEGORIES:Workshops
ATTACH;FMTTYPE=image/jpeg:https://www.beaverwatershedalliance.org/wp-content/uploads/2022/03/Watershed_Resources_Confernce_savedate_021522-01-scaled.jpg
ORGANIZER;CN="Beaver Watershed Alliance":MAILTO:info@beaverwatershedalliance.org
END:VEVENT
BEGIN:VEVENT
DTSTART;TZID=America/Chicago:20220724T173000
DTEND;TZID=America/Chicago:20220724T193000
DTSTAMP:20260422T045101
CREATED:20220707T135959Z
LAST-MODIFIED:20220707T171615Z
UID:10000063-1658683800-1658691000@www.beaverwatershedalliance.org
SUMMARY:Lake Wilson Cleanup & Native Plant Walk
DESCRIPTION:July 2022 has been proclaimed by Governor Asa Hutchinson as Lakes Appreciation Month in Arkansas. With over a half-million acres of reservoirs in Arkansas\, summer is a great time to encourage all Arkansans to appreciate the lakes of our Natural State by participating in recreation and stewardship activities. All life needs water\, let’s not take it for granted! \n  \nJoin the Alliance for a fun evening at Lake Wilson to celebrate this hidden gem of a lake! In partnership with Pack Rat Outdoor Center and the City of Fayetteville\, we will be hosting an on-the-water cleanup (bring your own boat\, canoe\, or kayak) to remove litter and fishing line\, as well as a native plant walk around the shores of the lake. Please wear weather-appropriate clothing and bring water and bug spray. \nRSVP: RSVPs are appreciated! Please text 479-750-8007 or email info@beaverwatershedalliance.org with your name and number of attendees to RSVP for this event. \nDirections: The park is located at 4668 S Lake Wilson Road. From Fayetteville\, take Morningside Drive south of 15th Street for approximately two miles. Morningside Drive becomes City Lake Road; turn left on Wilson Hollow Road. Follow the gravel road over the White River\, then turn left on Lake Wilson Road.
URL:https://www.beaverwatershedalliance.org/event/lake-wilson-cleanup-native-plant-walk/
LOCATION:Lake Wilson\, 4668 S Lake Wilson Road\, Fayetteville\, AR\, 72701\, United States
ATTACH;FMTTYPE=image/jpeg:https://www.beaverwatershedalliance.org/wp-content/uploads/2022/07/lake-wilson-scaled-e1657202214322.jpg
ORGANIZER;CN="Beaver Watershed Alliance":MAILTO:info@beaverwatershedalliance.org
END:VEVENT
END:VCALENDAR