BEGIN:VCALENDAR
VERSION:2.0
PRODID:-//Beaver Watershed Alliance - ECPv6.15.20//NONSGML v1.0//EN
CALSCALE:GREGORIAN
METHOD:PUBLISH
X-ORIGINAL-URL:https://www.beaverwatershedalliance.org
X-WR-CALDESC:Events for Beaver Watershed Alliance
REFRESH-INTERVAL;VALUE=DURATION:PT1H
X-Robots-Tag:noindex
X-PUBLISHED-TTL:PT1H
BEGIN:VTIMEZONE
TZID:America/Chicago
BEGIN:DAYLIGHT
TZOFFSETFROM:-0600
TZOFFSETTO:-0500
TZNAME:CDT
DTSTART:20230312T080000
END:DAYLIGHT
BEGIN:STANDARD
TZOFFSETFROM:-0500
TZOFFSETTO:-0600
TZNAME:CST
DTSTART:20231105T070000
END:STANDARD
BEGIN:DAYLIGHT
TZOFFSETFROM:-0600
TZOFFSETTO:-0500
TZNAME:CDT
DTSTART:20240310T080000
END:DAYLIGHT
BEGIN:STANDARD
TZOFFSETFROM:-0500
TZOFFSETTO:-0600
TZNAME:CST
DTSTART:20241103T070000
END:STANDARD
BEGIN:DAYLIGHT
TZOFFSETFROM:-0600
TZOFFSETTO:-0500
TZNAME:CDT
DTSTART:20250309T080000
END:DAYLIGHT
BEGIN:STANDARD
TZOFFSETFROM:-0500
TZOFFSETTO:-0600
TZNAME:CST
DTSTART:20251102T070000
END:STANDARD
END:VTIMEZONE
BEGIN:VEVENT
DTSTART;VALUE=DATE:20241010
DTEND;VALUE=DATE:20241012
DTSTAMP:20260421T035225
CREATED:20240925T195847Z
LAST-MODIFIED:20240925T200139Z
UID:10000114-1728518400-1728691199@www.beaverwatershedalliance.org
SUMMARY:Basic Field Technique Course
DESCRIPTION:Basic Field Techniques to Determine Stream Morphology. \nA training course through The River Commons & Institute (hosted by Watershed Conservation Resource Center) | October 10th -11th\, 2024 | Space is limited | Tuition payment due at registration | Registration link: https://forms.gle/thu6zGL423Nu65Db6 \nThis field-oriented course will teach basic surveying skills needed to characterize stream morphology.  Designed to be a hands-on training course\, where students will collect stream data in the field.\n\nDownload Flyer\n\n 
URL:https://www.beaverwatershedalliance.org/event/basic-field-technique-course/
LOCATION:J.B. and Johnelle Hunt Family Ozark Highlands Nature Center\, 3400 N 40th St\, Springdale\, AR\, 72762\, United States
CATEGORIES:Workshops
ATTACH;FMTTYPE=image/jpeg:https://www.beaverwatershedalliance.org/wp-content/uploads/2024/09/cropedwcrc.jpg
ORGANIZER;CN="Beaver Watershed Alliance":MAILTO:info@beaverwatershedalliance.org
END:VEVENT
BEGIN:VEVENT
DTSTART;TZID=America/Chicago:20241012T080000
DTEND;TZID=America/Chicago:20241012T120000
DTSTAMP:20260421T035225
CREATED:20240923T151331Z
LAST-MODIFIED:20241010T184838Z
UID:10000113-1728720000-1728734400@www.beaverwatershedalliance.org
SUMMARY:Beaver Lake Volunteer Day
DESCRIPTION:Save the Date -October 12th\, 2024 \nHelp us pick up litter around Beaver Lake by shoreline and boat. BYO Boat. Lunch and clean up supplies provided for volunteers. Then go to Hickory Creek Park to hear Secchi Day data results and talk with the organizations at the Science Fair working to help protect Beaver Lake. Everyone is welcome! We encourage you to register a team with your friends\, family\, or coworkers. Register now! \nClean Up: 8:00 am – 11:00 am (locations specified in registration) \nLunch & Science Fair: 10:30 am – Noon \nNew Location – Hickory Creek! Hickory Creek Park: 12800 Hickory Creek Rd. Lowell\, AR \nPrairie Creek Recreational Area will still be a check-in location\, but the main event activities including educational booths\, lunch\, and door prizes will be at Hickory Creek. \nRegister now! Click Here to register \nView/Download Flyer
URL:https://www.beaverwatershedalliance.org/event/beaver-lake-volunteer-day/
LOCATION:Arkansas
ATTACH;FMTTYPE=image/png:https://www.beaverwatershedalliance.org/wp-content/uploads/2024/09/Castor-with-BLVD-Logo-transparent-background-550x550-1.png
ORGANIZER;CN="Beaver Watershed Alliance":MAILTO:info@beaverwatershedalliance.org
END:VEVENT
BEGIN:VEVENT
DTSTART;TZID=America/Chicago:20241019T090000
DTEND;TZID=America/Chicago:20241019T233000
DTSTAMP:20260421T035225
CREATED:20240923T150810Z
LAST-MODIFIED:20240923T150810Z
UID:10000112-1729328400-1729380600@www.beaverwatershedalliance.org
SUMMARY:Lake Sequoyah Fall Cleanup
DESCRIPTION:Lake Sequoyah Fall Cleanup: Pick Up Where You Play\n\nSaturday\, October 19\, 2024\n\n\n\nThe City of Fayetteville and Beaver Watershed Alliance are teaming up to clean up Lake Sequoyah\, and we invite you to join us in our efforts to keep this lake clean and beautiful as we tackle litter along the shoreline\, roads and trails throughout the park!  In addition to help on land\, we are also seeking paddlers with boats so that we may expand our reach into the many areas on the water where floating debris collects but is not reachable from the shore.  \nWays to help:\nGeneral Volunteers (on foot): Volunteers will help tackle litter along the shoreline\, roads and trails throughout the park.\nPaddling Volunteers: We are looking for paddlers with boats to help us get to the floating trash that isn’t reachable from much of the steep and boggy shoreline. (Paddlers will be given a long-sleeve UPF shirt as a thank you for bringing out a boat!) \nSupplies & Snacks: \nVolunteers will be provided with supplies (trash bags\, gloves\, trash-grabbers) and assigned a cleanup spot. As the cleanup wraps up we will provide pizza and for the hard-working volunteers! \nWhat to Wear and Bring: \nPlease wear sturdy shoes or rain/muck boots and remember to bring a refillable water bottle.\n \nThank you\, collaborators and sponsors! \nBeaver Watershed Alliance\, University of Arkansas Extension Services\, Boston Mountain Solid Waste\, Keep Arkansas Beautiful\, Beaver Water District\, Arkansas Canoe Club\, Benton County Environmental Division and Gracie’s Canoe and Camp.\n\nThis event is part of Pick Up Where You Play\, a series of cleanups happening in Washington and Benton Counties this fall. All participants 18 and older will be entered to win a grand prize of a 2-night cabin stay and float trip for 4 people at Gracie’s Canoe and Camp in Pineville\, Mo. on the Elk River!\n \nFor More Information: \nContact kjones@fayetteville-ar.gov.
URL:https://www.beaverwatershedalliance.org/event/lake-sequoyah-fall-cleanup-2/
LOCATION:Lake Sequoyah Park\, 6608 E Lake Sequoyah Drive\, Fayetteville\, AR\, 72701\, United States
ATTACH;FMTTYPE=image/jpeg:https://www.beaverwatershedalliance.org/wp-content/uploads/2024/09/Andy-Mike_10-9-21_Sequoyah-2-scaled-e1727104053154.jpg
ORGANIZER;CN="Beaver Watershed Alliance":MAILTO:info@beaverwatershedalliance.org
END:VEVENT
BEGIN:VEVENT
DTSTART;TZID=America/Chicago:20241024T170000
DTEND;TZID=America/Chicago:20241024T183000
DTSTAMP:20260421T035225
CREATED:20240827T220056Z
LAST-MODIFIED:20240927T171030Z
UID:10000108-1729789200-1729794600@www.beaverwatershedalliance.org
SUMMARY:Alliance Karst Workshop
DESCRIPTION:Learn more about caves\, karst\, geology below us\, and the history of early dwellers that play an important role in the Beaver Lake watershed. \nWith Special Guest Speakers: \nAdam Leslie | Arkansas State Parks \nJonathan Baxter | U.S. Fish & Wildlife Service \nJamie Lockhart | AR Archeological Survey \n  \nTopics Include: \n\nWhat are karst landscapes & why are they important?\nOzark caves: early dwellings & the preservation of ancient artifacts.\nHow is water underground related to above ground water systems? (and how to protect both!)\nCave creatures: what lives in caves & what is their role in our local landscapes?\n\n\n  \nDownload/View Flyer \nRSVP to Beaver Watershed Alliance at: \nEMAIL: info@beaverwatershedalliance.org TEXT/CALL: 479-750-8007 \n\n  \n  \nThank you to our partners! \n               
URL:https://www.beaverwatershedalliance.org/event/alliance-karst-workshop/
LOCATION:Keith Ham Pavilion – Withrow Springs State Park\, 33647 AR-23\, Huntsville\, AR\, 72740\, United States
CATEGORIES:Workshops
ATTACH;FMTTYPE=image/webp:https://www.beaverwatershedalliance.org/wp-content/uploads/2024/08/cave-2-e1727365347472.webp
ORGANIZER;CN="Beaver Watershed Alliance":MAILTO:info@beaverwatershedalliance.org
END:VEVENT
END:VCALENDAR