BEGIN:VCALENDAR
VERSION:2.0
PRODID:-//Beaver Watershed Alliance - ECPv6.15.20//NONSGML v1.0//EN
CALSCALE:GREGORIAN
METHOD:PUBLISH
X-WR-CALNAME:Beaver Watershed Alliance
X-ORIGINAL-URL:https://www.beaverwatershedalliance.org
X-WR-CALDESC:Events for Beaver Watershed Alliance
REFRESH-INTERVAL;VALUE=DURATION:PT1H
X-Robots-Tag:noindex
X-PUBLISHED-TTL:PT1H
BEGIN:VTIMEZONE
TZID:America/Chicago
BEGIN:DAYLIGHT
TZOFFSETFROM:-0600
TZOFFSETTO:-0500
TZNAME:CDT
DTSTART:20230312T080000
END:DAYLIGHT
BEGIN:STANDARD
TZOFFSETFROM:-0500
TZOFFSETTO:-0600
TZNAME:CST
DTSTART:20231105T070000
END:STANDARD
BEGIN:DAYLIGHT
TZOFFSETFROM:-0600
TZOFFSETTO:-0500
TZNAME:CDT
DTSTART:20240310T080000
END:DAYLIGHT
BEGIN:STANDARD
TZOFFSETFROM:-0500
TZOFFSETTO:-0600
TZNAME:CST
DTSTART:20241103T070000
END:STANDARD
BEGIN:DAYLIGHT
TZOFFSETFROM:-0600
TZOFFSETTO:-0500
TZNAME:CDT
DTSTART:20250309T080000
END:DAYLIGHT
BEGIN:STANDARD
TZOFFSETFROM:-0500
TZOFFSETTO:-0600
TZNAME:CST
DTSTART:20251102T070000
END:STANDARD
END:VTIMEZONE
BEGIN:VEVENT
DTSTART;TZID=America/Chicago:20241105T120000
DTEND;TZID=America/Chicago:20241105T130000
DTSTAMP:20260421T081803
CREATED:20240918T180555Z
LAST-MODIFIED:20240927T200541Z
UID:10000111-1730808000-1730811600@www.beaverwatershedalliance.org
SUMMARY:AR Water Webinar
DESCRIPTION:TOPIC: AGFC Considering Fish and People at River Access Developments: Improved Conservation-based Recreation and Habitat with Infrastructure Development Projects \nAGFC has a history of minimalist provision at river access areas based on historic funding provided primarily by anglers. This resulted in a mindset of primarily just providing for parking and boat access. Funding and recreational use at river access sites have diversified\, as well as types of angling. Also\, stream habitat engineering\, streambank access stability design and engineering have advanced. AGFC is trying to incorporate improved water quality\, stream fisheries habitat\, streambank stabilization\, improved riverside access\, and bank fishing at river access sites. As important\, access area design now strives toward decreased long-term maintenance expenses by incorporating more built-in sustainability such as no-mow areas providing pollinator habitat and solar-powered safety lighting. \nSPEAKER: Darrell Bowman\, Recreation and Access Coordinator\, Arkansas Game and Fish Commission \nWHEN: Nov 5\, 2024 12:00 PM CST \nREGISTER: Click here to register \n 
URL:https://www.beaverwatershedalliance.org/event/ar-water-webinar/
LOCATION:ZOOM
CATEGORIES:Virtual
ATTACH;FMTTYPE=image/jpeg:https://www.beaverwatershedalliance.org/wp-content/uploads/2024/06/BWA-logo_color_hrzl.jpg
ORGANIZER;CN="Beaver Watershed Alliance":MAILTO:info@beaverwatershedalliance.org
END:VEVENT
BEGIN:VEVENT
DTSTART;TZID=America/Chicago:20241121T100000
DTEND;TZID=America/Chicago:20241121T120000
DTSTAMP:20260421T081803
CREATED:20241111T205406Z
LAST-MODIFIED:20241111T213134Z
UID:10000115-1732183200-1732190400@www.beaverwatershedalliance.org
SUMMARY:Invasive Plant Removal Volunteer Stewardship at Walker Park
DESCRIPTION:Join us for an invasive plant removal volunteer event at Walker Park in Fayetteville on Thursday\, November 21st from 10:00 am – 12:00 pm! Help us restore Spout Spring Branch and the urban forests around Walker Park & meet the Arkansas Conservation Corps crew. Learn how to identify and remove invasive plants! \nAll tools\, equipment\, water\, and snacks will be provided. Feel free to bring your own water bottle! Long-sleeves and closed-toe shoes recommended. Meet at Walker Park Splash Pad parking lot @ 753 S. Block Ave. Fayetteville\, AR 72701. \n \nThis event is in partnership with the US Forest Service\, the Watershed Conservation Resource Center\, the Northwest Arkansas Black Heritage Association\, Arkansas Conservation Corps\, the City of Fayetteville\, Beaver Water District\, Boatsetter\, and Sam’s Club. \nQuestions? Email emily@beaverwatershedalliance.org or text/call 479-502-4388. \nThe Beaver Watershed Alliance is committed to providing universal access to all our events. Please contact the Alliance to request disability accommodations. Advance notice is necessary to arrange for some accessibility needs. 
URL:https://www.beaverwatershedalliance.org/event/invasive-plant-removal-volunteer-stewardship-at-walker-park/
LOCATION:Walker Park Splash Pad parking lot\, 753 S. Block Ave\, Fayetteville\, AR\, 72701\, United States
CATEGORIES:Invasive Plant Removal
ATTACH;FMTTYPE=image/jpeg:https://www.beaverwatershedalliance.org/wp-content/uploads/2024/11/PXL_20220712_181758970-scaled.jpg
ORGANIZER;CN="Beaver Watershed Alliance":MAILTO:info@beaverwatershedalliance.org
END:VEVENT
END:VCALENDAR