BEGIN:VCALENDAR
VERSION:2.0
PRODID:-//Beaver Watershed Alliance - ECPv6.15.20//NONSGML v1.0//EN
CALSCALE:GREGORIAN
METHOD:PUBLISH
X-WR-CALNAME:Beaver Watershed Alliance
X-ORIGINAL-URL:https://www.beaverwatershedalliance.org
X-WR-CALDESC:Events for Beaver Watershed Alliance
REFRESH-INTERVAL;VALUE=DURATION:PT1H
X-Robots-Tag:noindex
X-PUBLISHED-TTL:PT1H
BEGIN:VTIMEZONE
TZID:America/Chicago
BEGIN:DAYLIGHT
TZOFFSETFROM:-0600
TZOFFSETTO:-0500
TZNAME:CDT
DTSTART:20240310T080000
END:DAYLIGHT
BEGIN:STANDARD
TZOFFSETFROM:-0500
TZOFFSETTO:-0600
TZNAME:CST
DTSTART:20241103T070000
END:STANDARD
BEGIN:DAYLIGHT
TZOFFSETFROM:-0600
TZOFFSETTO:-0500
TZNAME:CDT
DTSTART:20250309T080000
END:DAYLIGHT
BEGIN:STANDARD
TZOFFSETFROM:-0500
TZOFFSETTO:-0600
TZNAME:CST
DTSTART:20251102T070000
END:STANDARD
BEGIN:DAYLIGHT
TZOFFSETFROM:-0600
TZOFFSETTO:-0500
TZNAME:CDT
DTSTART:20260308T080000
END:DAYLIGHT
BEGIN:STANDARD
TZOFFSETFROM:-0500
TZOFFSETTO:-0600
TZNAME:CST
DTSTART:20261101T070000
END:STANDARD
END:VTIMEZONE
BEGIN:VEVENT
DTSTART;TZID=America/Chicago:20250503T100000
DTEND;TZID=America/Chicago:20250503T130000
DTSTAMP:20260425T082839
CREATED:20250416T153407Z
LAST-MODIFIED:20250416T153407Z
UID:10000128-1746266400-1746277200@www.beaverwatershedalliance.org
SUMMARY:Watershed Cleanup in Springdale
DESCRIPTION:Help remove litter from a roadside area in Springdale to protect local waterways and NWA’s drinking water source! \nWe would love to have you volunteer with us on Saturday\, May 3rd\, from 10 am – 1 pm. Cleanup supplies will be provided. Please wear long pants\, sturdy shoes\, and bring a water bottle. \nLocation: 4890 Horn Lane\, Springdale \nPark at the NE corner of the roundabout of Don Tyson Pkway & Habberton Rd intersection –\nLook for the Alliance sign! \nRSVP & Contact:\nGivePulse: https://www.givepulse.com/event/598790\nEmail: info@beaverwatershedalliance.org or\nText/Call: 479-750-8007 \nWe hope to see you there! \n 
URL:https://www.beaverwatershedalliance.org/event/watershed-cleanup-in-springdale/
LOCATION:4890 Horn Lane\, Springdale\, AR\, 4890 Horn Lane\, Springdale\, AR\, 72764\, United States
CATEGORIES:Clean Up
ATTACH;FMTTYPE=image/jpeg:https://www.beaverwatershedalliance.org/wp-content/uploads/2025/04/2025-5-3-Habberton-Cleanup-1.jpg
ORGANIZER;CN="Beaver Watershed Alliance":MAILTO:info@beaverwatershedalliance.org
END:VEVENT
BEGIN:VEVENT
DTSTART;TZID=America/Chicago:20250515T120000
DTEND;TZID=America/Chicago:20250515T130000
DTSTAMP:20260425T082839
CREATED:20250501T205543Z
LAST-MODIFIED:20250501T205543Z
UID:10000130-1747310400-1747314000@www.beaverwatershedalliance.org
SUMMARY:Riparian Restoration in the Illinois River Watershed: Webinar
DESCRIPTION:Join us for the next Arkansas Water Webinar\, hosted by the Illinois River Watershed Partnership (IRWP)\, on Thursday\, May 15\, from noon to 1 p.m. Leif Kindberg\, executive director of IRWP\, will present the Riparian Restoration Program’s recent work. With funding from the Arkansas Department of Agriculture – Natural Resources Division\, the Walton Family Foundation\, and 12 other state\, local\, and federal partners\, the program enhanced and restored streams in the watershed from 2014 to 2019. In total\, the program signed up 35 landowners to enhance or restore over 21 miles of streams in the watershed\, reducing sediment and nutrients and restoring habitat in a range of riparian and upland ecosystems. \nKindberg will also speak about other urban and rural projects\, as well as his experience and lessons learned throughout the process of implementing the program. \nRegister for the May water webinar to learn more about the program\, its impacts\, and the importance of such programs. \nClick here to register. After registering\, a confirmation email containing information about joining the webinar will be sent. \nAbout Arkansas Water Webinars \nThe Arkansas Water Resources Center and state water partners\, the Arkansas Department of Agriculture\, the Arkansas Forests and Drinking Water Collaborative\, the Beaver Watershed Alliance\, and the Illinois River Watershed Partnership host a monthly Arkansas Water Webinar Series that covers various water topics relevant to the state. \nFor more information on the series\, contact Brian Haggard at haggard@uark.edu.
URL:https://www.beaverwatershedalliance.org/event/riparian-restoration-in-the-illinois-river-watershed-webinar/
LOCATION:AR
CATEGORIES:Series,Virtual
ATTACH;FMTTYPE=image/jpeg:https://www.beaverwatershedalliance.org/wp-content/uploads/2025/05/irwpwaterwebinar.jpg
ORGANIZER;CN="Illinois River Watershed Partnership":MAILTO:contact@irwp.org
END:VEVENT
END:VCALENDAR