BEGIN:VCALENDAR
VERSION:2.0
PRODID:-//Beaver Watershed Alliance - ECPv6.15.20//NONSGML v1.0//EN
CALSCALE:GREGORIAN
METHOD:PUBLISH
X-ORIGINAL-URL:https://www.beaverwatershedalliance.org
X-WR-CALDESC:Events for Beaver Watershed Alliance
REFRESH-INTERVAL;VALUE=DURATION:PT1H
X-Robots-Tag:noindex
X-PUBLISHED-TTL:PT1H
BEGIN:VTIMEZONE
TZID:America/Chicago
BEGIN:DAYLIGHT
TZOFFSETFROM:-0600
TZOFFSETTO:-0500
TZNAME:CDT
DTSTART:20240310T080000
END:DAYLIGHT
BEGIN:STANDARD
TZOFFSETFROM:-0500
TZOFFSETTO:-0600
TZNAME:CST
DTSTART:20241103T070000
END:STANDARD
BEGIN:DAYLIGHT
TZOFFSETFROM:-0600
TZOFFSETTO:-0500
TZNAME:CDT
DTSTART:20250309T080000
END:DAYLIGHT
BEGIN:STANDARD
TZOFFSETFROM:-0500
TZOFFSETTO:-0600
TZNAME:CST
DTSTART:20251102T070000
END:STANDARD
BEGIN:DAYLIGHT
TZOFFSETFROM:-0600
TZOFFSETTO:-0500
TZNAME:CDT
DTSTART:20260308T080000
END:DAYLIGHT
BEGIN:STANDARD
TZOFFSETFROM:-0500
TZOFFSETTO:-0600
TZNAME:CST
DTSTART:20261101T070000
END:STANDARD
END:VTIMEZONE
BEGIN:VEVENT
DTSTART;TZID=America/Chicago:20250607T110000
DTEND;TZID=America/Chicago:20250607T130000
DTSTAMP:20260425T114024
CREATED:20250506T043703Z
LAST-MODIFIED:20250513T220258Z
UID:10000131-1749294000-1749301200@www.beaverwatershedalliance.org
SUMMARY:21st Annual War Eagle Appreciation Day
DESCRIPTION:Save the date for the 21st Annual War Eagle Appreciation Day! Join us at the O.A.R. War Eagle Kayak and Campground in Huntsville to celebrate all things War Eagle Creek and War Eagle Creek watershed! This beautiful area accounts for 1/3rd of all water entering Beaver Lake–the drinking water source for 1 in 5 Arkansans. Bring a lawn chair and enjoy the War Eagle Creek with us! \n-O.A.R. will be available for anyone who would like to float the river or reserve a campsite. For more information on kayak rentals and camping\, click HERE \n-LIVE MUSIC! Rufus Stephens Jr. Memorial Concert featuring Jude Brothers \n-Family-friendly activities both on and off the river \n-A free lunch will be provided \n-Native plant sale \n-Raffle Prizes \n-Scavenger Hunt and more! \nHelp us appreciate this special area through stewardship\, education\, and a fun celebration!
URL:https://www.beaverwatershedalliance.org/event/war-eagle-appreciation-day-2/
LOCATION:O.A.R. War Eagle Kayak & Campground\, 191 Madison 8568\, Huntsville\, AR\, 72740\, United States
ATTACH;FMTTYPE=image/jpeg:https://www.beaverwatershedalliance.org/wp-content/uploads/2025/05/Untitled-design-1-e1746556256613.jpg
ORGANIZER;CN="Beaver Watershed Alliance":MAILTO:info@beaverwatershedalliance.org
END:VEVENT
BEGIN:VEVENT
DTSTART;TZID=America/Chicago:20250614T090000
DTEND;TZID=America/Chicago:20250614T160000
DTSTAMP:20260425T114024
CREATED:20250508T221149Z
LAST-MODIFIED:20250508T221149Z
UID:10000132-1749891600-1749916800@www.beaverwatershedalliance.org
SUMMARY:Garden Gate Tour
DESCRIPTION:The Alliance is proud to be part of the 2025 Garden Gate Tour\, sponsored by Washington County Master Gardeners and Citiscapes. The event will take place on Saturday\, June 14th\, from 9:00 a.m. – 4:00 p.m. It features six sites in the Fayetteville and Elkins area. The Elkins portion will feature the Community Center Master Gardener project and the riparian and prairie restoration projects at Bunch Park\, which have been a collaboration effort between the Beaver Watershed Alliance and the City of Elkins. Education stations will be at each garden! \nTickets are $20. \nFor more information and to purchase tickets online\, visit the Washington County Master Gardeners Website \nTickets are available to purchase by cash or check at these locations: \nJune 12\, 3–5 pm and June 13\, 10 am–1 pm\nWashington County Extension Office\n2535 N. McConnell\, Fayetteville \nJune 14\, 9 am–3 pm\nMANA First Care South\n2523 E. Huntsville Road\, Fayetteville
URL:https://www.beaverwatershedalliance.org/event/garden-gate-tour/
LOCATION:AR
ATTACH;FMTTYPE=image/jpeg:https://www.beaverwatershedalliance.org/wp-content/uploads/2025/05/2025-GGT-flyer-with-UA-blurb-FINAL-scaled.jpg
END:VEVENT
BEGIN:VEVENT
DTSTART;TZID=America/Chicago:20250619T120000
DTEND;TZID=America/Chicago:20250619T130000
DTSTAMP:20260425T114024
CREATED:20250603T032337Z
LAST-MODIFIED:20250603T032337Z
UID:10000133-1750334400-1750338000@www.beaverwatershedalliance.org
SUMMARY:June Arkansas Water Webinar: Beaver Lake Secchi Day
DESCRIPTION:Join us for the June Arkansas Water Webinar on June 19th! Beaver Water District’s Matthew Rich will be speaking about Beaver Lake Secchi Day– History\, Trends\, and Citizen Science. \nUnderstanding the source of one’s drinking water is imperative in preserving that source for future generations. Ensuring that drinking water sources remains viable is a goal that researchers\, water treatment managers\, and water quality conservationists can work toward for the entirety of a career. However\, without public buy-in\, the monumental task of source water protection would not be possible. To educate the citizens of northwest Arkansas about the source of their safe\, clean drinking water\, Beaver Water District initiated Secchi Day on Beaver Lake\, a citizen science engagement program. Beaver Lake is the source of drinking water for 1 in 5 Arkansans\, that is over 600\,000 people in northwest Arkansas. With this citizen science program\, we aim to bridge the gap between source and tap\, and 2025 marks the 20th Anniversary of Secchi Day. In this webinar\, Matthew Rich will discuss the history and formation of Secchi Day\, data trends from this citizen-scientist-collected data\, and what it takes to run a successful program like this. Matthew Rich\, an Environmental Specialist with Beaver Water District\, received his BS and MS degrees from the University of Arkansas. Between his degrees\, he spent time as a Research Associate and Lab Manager at the Louisiana Universities Marine Consortium (LUMCON) researching the effects of oil spills on Louisiana marshes\, as well as annual hypoxia in the northern Gulf of Mexico known as “The Dead Zone”. For the past 9 years\, he’s worked on source water protection issues\, along with citizen science engagement efforts like Secchi Day on Beaver Lake. \nREGISTRATION: https://uada.zoom.us/webinar/register/WN_MBWWz0TZQemqvZgcQmXi_w#/registration \nAfter registering\, you will receive a confirmation email containing information about joining the webinar. We look forward to seeing you there!
URL:https://www.beaverwatershedalliance.org/event/june-arkansas-water-webinar-beaver-lake-secchi-day/
LOCATION:AR
CATEGORIES:Virtual
ATTACH;FMTTYPE=image/jpeg:https://www.beaverwatershedalliance.org/wp-content/uploads/2025/06/bwdwaterwebinar2025.jpg
ORGANIZER;CN="The Arkansas Water Resource Center (AWRC)":MAILTO:awrcwql@uark.edu
END:VEVENT
END:VCALENDAR