BEGIN:VCALENDAR
VERSION:2.0
PRODID:-//Beaver Watershed Alliance - ECPv6.15.20//NONSGML v1.0//EN
CALSCALE:GREGORIAN
METHOD:PUBLISH
X-ORIGINAL-URL:https://www.beaverwatershedalliance.org
X-WR-CALDESC:Events for Beaver Watershed Alliance
REFRESH-INTERVAL;VALUE=DURATION:PT1H
X-Robots-Tag:noindex
X-PUBLISHED-TTL:PT1H
BEGIN:VTIMEZONE
TZID:America/Chicago
BEGIN:DAYLIGHT
TZOFFSETFROM:-0600
TZOFFSETTO:-0500
TZNAME:CDT
DTSTART:20250309T080000
END:DAYLIGHT
BEGIN:STANDARD
TZOFFSETFROM:-0500
TZOFFSETTO:-0600
TZNAME:CST
DTSTART:20251102T070000
END:STANDARD
BEGIN:DAYLIGHT
TZOFFSETFROM:-0600
TZOFFSETTO:-0500
TZNAME:CDT
DTSTART:20260308T080000
END:DAYLIGHT
BEGIN:STANDARD
TZOFFSETFROM:-0500
TZOFFSETTO:-0600
TZNAME:CST
DTSTART:20261101T070000
END:STANDARD
BEGIN:DAYLIGHT
TZOFFSETFROM:-0600
TZOFFSETTO:-0500
TZNAME:CDT
DTSTART:20270314T080000
END:DAYLIGHT
BEGIN:STANDARD
TZOFFSETFROM:-0500
TZOFFSETTO:-0600
TZNAME:CST
DTSTART:20271107T070000
END:STANDARD
END:VTIMEZONE
BEGIN:VEVENT
DTSTART;VALUE=DATE:20260728
DTEND;VALUE=DATE:20260731
DTSTAMP:20260422T032621
CREATED:20260417T223513Z
LAST-MODIFIED:20260417T223822Z
UID:10000158-1785196800-1785455999@www.beaverwatershedalliance.org
SUMMARY:2026 Arkansas Agriculture\, Forests\, and Water Conference
DESCRIPTION:Join us for the upcoming Arkansas Agriculture\, Forests and Water Conference\, happening July 28-30\, 2026! This two-and-a-half-day event covers multiple topics on agriculture\, forestry\, and water resources management for stakeholders state-wide. The event will be held at the Don Tyson Center for Agricultural Sciences in Fayetteville\, Arkansas (1371 W. Altheimer Dr.) \nThis conference is organized by the following partners: Arkansas Water Resources Center (AWRC)\, Arkansas Dept. of Agriculture – Natural Resources Division\, Arkansas Dept. of Agriculture – Forestry Division\, Arkansas Forest and Drinking Water Collaborative (AFDWC)\, Beaver Watershed Alliance (BWA) and the Illinois River Watershed Partnership (IRWP). \nTo register and view the agenda\, click HERE.
URL:https://www.beaverwatershedalliance.org/event/2026-arkansas-agriculture-forests-and-water-conference/
LOCATION:Don Tyson Center for Agricultural Sciences\, 1371 W Altheimer Drive\, Fayetteville\, Arkansas\, 72704
CATEGORIES:Conference
ATTACH;FMTTYPE=image/png:https://www.beaverwatershedalliance.org/wp-content/uploads/2026/04/2026-WEAD.png
ORGANIZER;CN="Beaver Watershed Alliance":MAILTO:info@beaverwatershedalliance.org
END:VEVENT
BEGIN:VEVENT
DTSTART;TZID=America/Chicago:20260820T120000
DTEND;TZID=America/Chicago:20260820T130000
DTSTAMP:20260422T032621
CREATED:20260421T232011Z
LAST-MODIFIED:20260421T232056Z
UID:10000161-1787227200-1787230800@www.beaverwatershedalliance.org
SUMMARY:August Arkansas Water Webinar
DESCRIPTION: Thursday\, August 20 | Noon-1 p.m.\nTitle: Working Lands\, Shared Waters: A Collaborative Conservation Case Study in War Eagle Creek\nRegister here! \nMore details coming soon!
URL:https://www.beaverwatershedalliance.org/event/august-arkansas-water-webinar/
ATTACH;FMTTYPE=image/webp:https://www.beaverwatershedalliance.org/wp-content/uploads/2026/04/OIP.webp
ORGANIZER;CN="Beaver Watershed Alliance":MAILTO:info@beaverwatershedalliance.org
LOCATION:https://uark.us7.list-manage.com/track/click?u=189878255199f9a389355a6e9&id=2242b8672f&e=edc4f46928
END:VEVENT
BEGIN:VEVENT
DTSTART;TZID=America/Chicago:20260917T120000
DTEND;TZID=America/Chicago:20260917T130000
DTSTAMP:20260422T032621
CREATED:20260421T232255Z
LAST-MODIFIED:20260421T232602Z
UID:10000162-1789646400-1789650000@www.beaverwatershedalliance.org
SUMMARY:September Arkansas Water Webinar
DESCRIPTION:Thursday\, September 17 | Noon-1 p.m.\nTitle: Floodplain Restoration & CommuniTree Program\nRegister here! \nMore details coming soon!
URL:https://www.beaverwatershedalliance.org/event/september-arkansas-water-webinar/
ATTACH;FMTTYPE=image/webp:https://www.beaverwatershedalliance.org/wp-content/uploads/2026/04/OIP.webp
ORGANIZER;CN="Beaver Watershed Alliance":MAILTO:info@beaverwatershedalliance.org
END:VEVENT
BEGIN:VEVENT
DTSTART;TZID=America/Chicago:20261015T120000
DTEND;TZID=America/Chicago:20261015T130000
DTSTAMP:20260422T032621
CREATED:20260421T232436Z
LAST-MODIFIED:20260421T232436Z
UID:10000163-1792065600-1792069200@www.beaverwatershedalliance.org
SUMMARY:October Arkansas Water Webinar
DESCRIPTION:Thursday\, October 15 | Noon-1 p.m.\nTitle: Assessing Source Springs and Fish SGCN in the Northwest Karst Region of Arkansas\nRegister here! \nMore details coming soon!
URL:https://www.beaverwatershedalliance.org/event/october-arkansas-water-webinar/
CATEGORIES:Speaker Series
ATTACH;FMTTYPE=image/webp:https://www.beaverwatershedalliance.org/wp-content/uploads/2026/04/OIP.webp
ORGANIZER;CN="Beaver Watershed Alliance":MAILTO:info@beaverwatershedalliance.org
END:VEVENT
END:VCALENDAR