BEGIN:VCALENDAR
VERSION:2.0
PRODID:-//Beaver Watershed Alliance - ECPv6.15.20//NONSGML v1.0//EN
CALSCALE:GREGORIAN
METHOD:PUBLISH
X-WR-CALNAME:Beaver Watershed Alliance
X-ORIGINAL-URL:https://www.beaverwatershedalliance.org
X-WR-CALDESC:Events for Beaver Watershed Alliance
REFRESH-INTERVAL;VALUE=DURATION:PT1H
X-Robots-Tag:noindex
X-PUBLISHED-TTL:PT1H
BEGIN:VTIMEZONE
TZID:America/Chicago
BEGIN:DAYLIGHT
TZOFFSETFROM:-0600
TZOFFSETTO:-0500
TZNAME:CDT
DTSTART:20250309T080000
END:DAYLIGHT
BEGIN:STANDARD
TZOFFSETFROM:-0500
TZOFFSETTO:-0600
TZNAME:CST
DTSTART:20251102T070000
END:STANDARD
BEGIN:DAYLIGHT
TZOFFSETFROM:-0600
TZOFFSETTO:-0500
TZNAME:CDT
DTSTART:20260308T080000
END:DAYLIGHT
BEGIN:STANDARD
TZOFFSETFROM:-0500
TZOFFSETTO:-0600
TZNAME:CST
DTSTART:20261101T070000
END:STANDARD
BEGIN:DAYLIGHT
TZOFFSETFROM:-0600
TZOFFSETTO:-0500
TZNAME:CDT
DTSTART:20270314T080000
END:DAYLIGHT
BEGIN:STANDARD
TZOFFSETFROM:-0500
TZOFFSETTO:-0600
TZNAME:CST
DTSTART:20271107T070000
END:STANDARD
END:VTIMEZONE
BEGIN:VEVENT
DTSTART;TZID=America/Chicago:20260521T120000
DTEND;TZID=America/Chicago:20260521T130000
DTSTAMP:20260422T071548
CREATED:20260421T230928Z
LAST-MODIFIED:20260421T230928Z
UID:10000159-1779364800-1779368400@www.beaverwatershedalliance.org
SUMMARY:May Arkansas Water Webinar
DESCRIPTION:Register Now for the May Arkansas Water Webinar!  Register Here \nWHEN: Thursday\, May 21\, Noon- 1 p.m. \nTITLE: Land Use Impacts on Water Quality in Central Arkansas: A Three-Year Comparative Study of Urban\, Agricultural\, and Protected Drinking Water Watersheds \nAgricultural and urban expansion increasingly impacts water quality in the southeastern United States\, yet comprehensive studies comparing agricultural watersheds to other land uses are relatively rare. Understanding these different impacts is critical for targeted watershed management and protection of drinking water resources\, particularly for the growing population of nearly 500\,000 people in Central Arkansas. This study presents results from a three-year monitoring program comparing water quality across urban\, agricultural\, and protected drinking water watersheds in central Arkansas to quantify land use effects and identify priority management areas. \nSPEAKER: Heather Black\, PhD\, Assistant Professor\, Department of Geology\, University of Arkansas\, Little Rock\, hblack@ualr.edu \nREGISTRATION:\nWebinar Registration – Zoom \nAfter registering\, you will receive a confirmation email containing information about joining the webinar. We look forward to seeing you there! \nUpcoming Arkansas Water Webinars\nBelow is a complete line-up of 2026 Arkansas Water Webinars. Save the date for our upcoming webinars and register today using the links! \nThursday\, June 18 | Noon-1 p.m.\nTitle: Long-term monitoring reveals the seasonal and annual pulse of a Central Arkansas drinking water reservoir \nThursday\, August 20 | Noon-1 p.m.\nTitle: Working Lands\, Shared Waters: A Collaborative Conservation Case Study in War Eagle Creek \nThursday\, September 17 | Noon-1 p.m.\nTitle: Floodplain Restoration & CommuniTree Program \nThursday\, October 15 | Noon-1 p.m.\nTitle: Assessing Source Springs and Fish SGCN in the Northwest Karst Region of Arkansas \n  \n 
URL:https://www.beaverwatershedalliance.org/event/may-arkansas-water-webinar/
CATEGORIES:Speaker Series
ATTACH;FMTTYPE=image/png:https://www.beaverwatershedalliance.org/wp-content/uploads/2026/04/water-webinar-5-21.png
ORGANIZER;CN="Beaver Watershed Alliance":MAILTO:info@beaverwatershedalliance.org
LOCATION:https://uark.us7.list-manage.com/track/click?u=189878255199f9a389355a6e9&id=d220aa47bb&e=edc4f46928
END:VEVENT
END:VCALENDAR