BEGIN:VCALENDAR
VERSION:2.0
PRODID:-//Beaver Watershed Alliance - ECPv6.15.20//NONSGML v1.0//EN
CALSCALE:GREGORIAN
METHOD:PUBLISH
X-WR-CALNAME:Beaver Watershed Alliance
X-ORIGINAL-URL:https://www.beaverwatershedalliance.org
X-WR-CALDESC:Events for Beaver Watershed Alliance
REFRESH-INTERVAL;VALUE=DURATION:PT1H
X-Robots-Tag:noindex
X-PUBLISHED-TTL:PT1H
BEGIN:VTIMEZONE
TZID:America/Chicago
BEGIN:DAYLIGHT
TZOFFSETFROM:-0600
TZOFFSETTO:-0500
TZNAME:CDT
DTSTART:20250309T080000
END:DAYLIGHT
BEGIN:STANDARD
TZOFFSETFROM:-0500
TZOFFSETTO:-0600
TZNAME:CST
DTSTART:20251102T070000
END:STANDARD
BEGIN:DAYLIGHT
TZOFFSETFROM:-0600
TZOFFSETTO:-0500
TZNAME:CDT
DTSTART:20260308T080000
END:DAYLIGHT
BEGIN:STANDARD
TZOFFSETFROM:-0500
TZOFFSETTO:-0600
TZNAME:CST
DTSTART:20261101T070000
END:STANDARD
BEGIN:DAYLIGHT
TZOFFSETFROM:-0600
TZOFFSETTO:-0500
TZNAME:CDT
DTSTART:20270314T080000
END:DAYLIGHT
BEGIN:STANDARD
TZOFFSETFROM:-0500
TZOFFSETTO:-0600
TZNAME:CST
DTSTART:20271107T070000
END:STANDARD
END:VTIMEZONE
BEGIN:VEVENT
DTSTART;TZID=America/Chicago:20260521T113000
DTEND;TZID=America/Chicago:20260521T130000
DTSTAMP:20260424T135044
CREATED:20260423T204105Z
LAST-MODIFIED:20260423T204105Z
UID:10000164-1779363000-1779368400@www.beaverwatershedalliance.org
SUMMARY:Modified Ponds Tailgate Talk
DESCRIPTION:Practical land management for thriving farms and a healthy War Eagle watershed.\nJoin us on May 21st from 11:30 AM to 1:00 PM at the Tuberville Farm to see how modified ponds and other conservation land management practices help to keep your soil in place\, water clean\, and your operation running strong. This is a free event with a complimentary lunch provided by Arvest. \nWhat we’ll cover:\n\nSlowing the Flow: How a perforated pond outlet reduces erosion and can help protect downstream waterways.\nThe Tandem Strategy: How rotational grazing\, riparian fencing\, and alternative water sources work together to boost herd and watershed health.\nFunding Your Project: Find out how to take advantage of current financial assistance programs to make these upgrades affordable.\n\nEvent is free\, but RSVP required. Email larry@beaverwatershedalliance.org or text/call 479-750-8007.
URL:https://www.beaverwatershedalliance.org/event/modified-ponds-tailgate-talk/
LOCATION:1057 Madison 6555\, 1057 Madison 6555\, Huntsville\, AR\, United States
CATEGORIES:Workshops
ATTACH;FMTTYPE=image/png:https://www.beaverwatershedalliance.org/wp-content/uploads/2026/04/2026-Pond-WS.png
ORGANIZER;CN="Beaver Watershed Alliance":MAILTO:info@beaverwatershedalliance.org
END:VEVENT
END:VCALENDAR