BEGIN:VCALENDAR
VERSION:2.0
PRODID:-//Beaver Watershed Alliance - ECPv6.15.20//NONSGML v1.0//EN
CALSCALE:GREGORIAN
METHOD:PUBLISH
X-WR-CALNAME:Beaver Watershed Alliance
X-ORIGINAL-URL:https://www.beaverwatershedalliance.org
X-WR-CALDESC:Events for Beaver Watershed Alliance
REFRESH-INTERVAL;VALUE=DURATION:PT1H
X-Robots-Tag:noindex
X-PUBLISHED-TTL:PT1H
BEGIN:VTIMEZONE
TZID:America/Chicago
BEGIN:DAYLIGHT
TZOFFSETFROM:-0600
TZOFFSETTO:-0500
TZNAME:CDT
DTSTART:20250309T080000
END:DAYLIGHT
BEGIN:STANDARD
TZOFFSETFROM:-0500
TZOFFSETTO:-0600
TZNAME:CST
DTSTART:20251102T070000
END:STANDARD
BEGIN:DAYLIGHT
TZOFFSETFROM:-0600
TZOFFSETTO:-0500
TZNAME:CDT
DTSTART:20260308T080000
END:DAYLIGHT
BEGIN:STANDARD
TZOFFSETFROM:-0500
TZOFFSETTO:-0600
TZNAME:CST
DTSTART:20261101T070000
END:STANDARD
BEGIN:DAYLIGHT
TZOFFSETFROM:-0600
TZOFFSETTO:-0500
TZNAME:CDT
DTSTART:20270314T080000
END:DAYLIGHT
BEGIN:STANDARD
TZOFFSETFROM:-0500
TZOFFSETTO:-0600
TZNAME:CST
DTSTART:20271107T070000
END:STANDARD
END:VTIMEZONE
BEGIN:VEVENT
DTSTART;TZID=America/Chicago:20260318T150000
DTEND;TZID=America/Chicago:20260318T150000
DTSTAMP:20260424T201253
CREATED:20260216T171032Z
LAST-MODIFIED:20260307T014511Z
UID:10000149-1773846000-1773846000@www.beaverwatershedalliance.org
SUMMARY:Native Tree Planting Volunteer Event @ Walker Park
DESCRIPTION:VOLUNTEERS NEEDED\nJoin us to plant native understory trees and shrubs at Walker Park in Fayetteville on Wednesday\, March 18th from 3-5:00 PM! We’ll be planting locally grown native species provided by the Watershed Conservation Resource Center to restore the  \n \nurban forest\, improving water quality in the Beaver Lake watershed! \nRSVPs are appreciated\, but not required. Please reach out to volunteer@beaverwatershedalliance.org. All ages are invited to participate! \nAll tools\, equipment\, training\, water\, and snacks will be provided. Recommended: wear long sleeves\, pants\, and sturdy shoes. Meet at the parking lot @ the corner of W. 13th Street & S. Block Avenue\, Fayetteville\, AR 72701 (Google Maps link) (Coordinates: 36.050675\, -94.160520) \n \nThis event is in partnership with the US Forest Service\, the Watershed Conservation Resource Center\, the Northwest Arkansas Black Heritage Association\, Arkansas Conservation Corps\, the City of Fayetteville\, and Beaver Water District.
URL:https://www.beaverwatershedalliance.org/event/native-tree-planting-volunteer-event-walker-park/
LOCATION:Walker Park\, W. 13th Street & S. Block Avenue\, Fayetteville\, AR\, 72701\, United States
CATEGORIES:Native Tree Planting
ATTACH;FMTTYPE=image/jpeg:https://www.beaverwatershedalliance.org/wp-content/uploads/2026/02/Cover-Images-02.jpg
END:VEVENT
END:VCALENDAR